BEGIN:VCALENDAR
VERSION:2.0
PRODID:-//Lao Family Community Development - ECPv6.15.20//NONSGML v1.0//EN
CALSCALE:GREGORIAN
METHOD:PUBLISH
X-ORIGINAL-URL:https://lfcd.org
X-WR-CALDESC:Events for Lao Family Community Development
REFRESH-INTERVAL;VALUE=DURATION:PT1H
X-Robots-Tag:noindex
X-PUBLISHED-TTL:PT1H
BEGIN:VTIMEZONE
TZID:UTC
BEGIN:STANDARD
TZOFFSETFROM:+0000
TZOFFSETTO:+0000
TZNAME:UTC
DTSTART:20170101T000000
END:STANDARD
END:VTIMEZONE
BEGIN:VEVENT
DTSTART;TZID=UTC:20190301T170000
DTEND;TZID=UTC:20190301T190000
DTSTAMP:20260425T102600
CREATED:20190225T222005Z
LAST-MODIFIED:20190227T214406Z
UID:644-1551459600-1551466800@lfcd.org
SUMMARY:Art Reception
DESCRIPTION:We are very excited to host our first Art Reception Event at our CARE Community Center.\n\nWe look forward to seeing you all at our art gallery showcasing Artist Sindbod Kobliv’s art pieces. Please feel free to share this event with the public.\n\nThank you!\n \nDate: Friday\, March 1st\, 2019\nTime: 5:00-7:00PM\nLocation: 2325 E12th Street\, Oakland\, CA 94601\nRSVP at smao@lfcd.org or simply just show up.
URL:https://lfcd.org/event/art-reception/
LOCATION:2325 East 12th Street\, Oakland\, California 94606\, 2325 East 12th Street\, Oakland\, CA\, 94601\, United States
END:VEVENT
BEGIN:VEVENT
DTSTART;VALUE=DATE:20190220
DTEND;VALUE=DATE:20190223
DTSTAMP:20260425T102600
CREATED:20181031T100930Z
LAST-MODIFIED:20190220T105803Z
UID:157-1550620800-1550879999@lfcd.org
SUMMARY:New Events
DESCRIPTION:This is a new event
URL:https://lfcd.org/event/new-events/
LOCATION:LFCD Oakland\, 1551 23rd Avenue\, Oakland\, CA\, 94601\, United States
CATEGORIES:Private Event Rentals
ATTACH;FMTTYPE=image/jpeg:https://lfcd.org/wp-content/uploads/2018/10/education-banner.jpg
END:VEVENT
BEGIN:VEVENT
DTSTART;VALUE=DATE:20181116
DTEND;VALUE=DATE:20181117
DTSTAMP:20260425T102600
CREATED:20181031T071108Z
LAST-MODIFIED:20181102T072017Z
UID:119-1542326400-1542412799@lfcd.org
SUMMARY:Birthday Party
DESCRIPTION:Birthday Party Celebration.
URL:https://lfcd.org/event/birthday-party/
LOCATION:CA
CATEGORIES:News & Press,Workshops + Training
ATTACH;FMTTYPE=image/jpeg:https://lfcd.org/wp-content/uploads/2018/10/events1.jpg
END:VEVENT
BEGIN:VEVENT
DTSTART;TZID=UTC:20181102T000000
DTEND;TZID=UTC:20181102T000000
DTSTAMP:20260425T102600
CREATED:20181102T072316Z
LAST-MODIFIED:20190208T105645Z
UID:374-1541116800-1541116800@lfcd.org
SUMMARY:Anniversary Celebration
DESCRIPTION:Even with all these barriers in their path\, we see resilience and determination that\, with assistance\, ultimately can lead to real and tangible successes.
URL:https://lfcd.org/event/annivaesary-celebration/
LOCATION:CA
CATEGORIES:News & Press,Workshops + Training
END:VEVENT
END:VCALENDAR